BEGIN:VCALENDAR
VERSION:2.0
PRODID:-//ok.edith-webco.de//NONSGML kigkonsult.se iCalcreator 2.41.92//
CALSCALE:GREGORIAN
METHOD:PUBLISH
UID:30653265-6431-4335-b534-636431376233
X-WR-TIMEZONE:Europe/Berlin
X-LIC-LOCATION:Europe/Berlin
BEGIN:VEVENT
UID:594245-kulturportal@ok.edith-webco.de
DTSTAMP:20260424T222934Z
DESCRIPTION:Kurzbeschreibung:\n Mit Werken von Haydn\, Mozart und Tschaikow
 sky - Im Rahmen der Offenburger Kreuzgangkonzerte 2026.\n Ort:\n Kreuzgang
  / Kapuzinerkloster\n Gymnasiumstraße 7\, 77652 Offenburg\n Veranstalter:
 \n Kulturbüro Offenburg\n Termin:\n Beginn: 05.07.2026\, 11:00 Uhr\n Ende:
  05.07.2026\n Tickets:\n Achat de billets\n https://ortenaukultur.reservix
 .de/p/reservix/event/2538769\n 1. Kategorie:\n jusqu'à 23\,00 € + Réductio
 n\n *Toute taxe comprise\n \n Link:\n Page détaillée
DTSTART;TZID=Europe/Berlin:20260705T110000
DTEND;TZID=Europe/Berlin:20260705T140000
LOCATION:Kreuzgang / Kapuzinerkloster\, Gymnasiumstraße 7\, 77652 Offenburg
SUMMARY:Kreuzgangkonzert - Matinee - Saitenzauber von Wien bis Florenz\, Kr
 euzgang / Kapuzinerkloster
X-ALT-DESC;FMTTYPE=text/html:<strong>Kurzbeschreibung:</strong><br/>Mit Wer
 ken von Haydn\, Mozart und Tschaikowsky - Im Rahmen der Offenburger Kreuzg
 angkonzerte 2026.\n<br /><strong>Ort:</strong><br/>Kreuzgang / Kapuzinerkl
 oster<br/>Gymnasiumstraße 7\, 77652 Offenburg<br /><strong>Veranstalter:</
 strong><br/>Kulturbüro Offenburg<br /><strong>Termin:</strong><br/>Beginn:
  05.07.2026\, 11:00 Uhr<br/>Ende: 05.07.2026<br /><strong>Tickets: </stron
 g><br/><a rel='asdf' href='https://ok.edith-webco.de/fr/evenements/musique
 /detail/billets/id/594245-kreuzgangkonzert-matinee-saitenzauber-von-wien-b
 is-florenz/?follow=https%253A%252F%252Fortenaukultur.reservix.de%252Fp%252
 Freservix%252Fevent%252F2538769' target='_blank' title='' id='ticketlink'>
 Achat de billets</a><br/>https://ortenaukultur.reservix.de/p/reservix/even
 t/2538769<br/><b>1. Kategorie: </b><br />jusqu&#039\;à 23\,00 &euro\;&nbsp
 \; + Réduction<br />*Toute taxe comprise<br /><br /><strong>Link:</strong>
 <br/><a href='https://ok.edith-webco.de/fr/evenements/detail/evenement/id/
 594245-kreuzgangkonzert-matinee-saitenzauber-von-wien-bis-florenz/?vt=1'>P
 age détaillée </a>
END:VEVENT
END:VCALENDAR
