BEGIN:VCALENDAR
VERSION:2.0
PRODID:-//ok.edith-webco.de//NONSGML kigkonsult.se iCalcreator 2.41.92//
CALSCALE:GREGORIAN
METHOD:PUBLISH
UID:39396266-3635-4437-b362-363338336538
X-WR-TIMEZONE:Europe/Berlin
X-LIC-LOCATION:Europe/Berlin
BEGIN:VEVENT
UID:594256-kulturportal@ok.edith-webco.de
DTSTAMP:20260424T234410Z
DESCRIPTION:Kurzbeschreibung:\n Das Promenadenkonzert findet am Mittwoch\, 
 den 10. Juni im Klostergarten in Haslach statt.\n Ort:\n Haus der Musik Ho
 fstetterstr. 3\n Klosterstraße 1\, 77716 Haslach\n Veranstalter:\n Stadt H
 aslach - Kultur und Marketing\n Termin:\n Beginn: 10.06.2026\, 19:30 Uhr\n
  Ende: 10.06.2026\n Link:\n Page détaillée
DTSTART;TZID=Europe/Berlin:20260610T193000
DTEND;TZID=Europe/Berlin:20260610T223000
LOCATION:Haus der Musik Hofstetterstr. 3\, Klosterstraße 1\, 77716 Haslach
SUMMARY:Promenadenkonzert Jugendkapelle 'Dreiklang'\, Klostergarten
X-ALT-DESC;FMTTYPE=text/html:<strong>Kurzbeschreibung:</strong><br/>Das Pro
 menadenkonzert findet am Mittwoch\, den 10. Juni im Klostergarten in Hasla
 ch statt.<br /><strong>Ort:</strong><br/>Haus der Musik Hofstetterstr. 3<b
 r/>Klosterstraße 1\, 77716 Haslach<br /><strong>Veranstalter:</strong><br/
 >Stadt Haslach - Kultur und Marketing<br /><strong>Termin:</strong><br/>Be
 ginn: 10.06.2026\, 19:30 Uhr<br/>Ende: 10.06.2026<br /><strong>Link:</stro
 ng><br/><a href='https://ok.edith-webco.de/fr/evenements/detail/evenement/
 id/594256-promenadenkonzert-jugendkapelle-dreiklang/?vt=1'>Page détaillée 
 </a>
END:VEVENT
END:VCALENDAR
