BEGIN:VCALENDAR
VERSION:2.0
PRODID:-//ok.edith-webco.de//NONSGML kigkonsult.se iCalcreator 2.41.92//
CALSCALE:GREGORIAN
METHOD:PUBLISH
UID:64306661-3533-4538-b337-343531306238
X-WR-TIMEZONE:Europe/Berlin
X-LIC-LOCATION:Europe/Berlin
BEGIN:VEVENT
UID:595050-kulturportal@ok.edith-webco.de
DTSTAMP:20260425T230811Z
DESCRIPTION:Kurzbeschreibung:\n Der Schülerband-Contest geht in die achte R
 unde! Auch in diesem Jahr treten fünf talentierte Schülerbands gegeneinand
 er an.\n Ort:\n Am Sonnenplatz\n Hindenburgstr.\, 77977 Rust\n Veranstalte
 r:\n Gemeinde Rust\n Termin:\n Beginn: 09.07.2026\, 18:00 Uhr\n Ende: 09.0
 7.2026\n Link:\n Page détaillée
DTSTART;TZID=Europe/Berlin:20260709T180000
DTEND;TZID=Europe/Berlin:20260709T210000
LOCATION:Am Sonnenplatz\, Hindenburgstr.\, 77977 Rust
SUMMARY:Schülerband-Contest\, Am Sonnenplatz
X-ALT-DESC;FMTTYPE=text/html:<strong>Kurzbeschreibung:</strong><br/>Der Sch
 ülerband-Contest geht in die achte Runde!\nAuch in diesem Jahr treten fünf
  talentierte Schülerbands gegeneinander an.<br /><strong>Ort:</strong><br/
 >Am Sonnenplatz<br/>Hindenburgstr.\, 77977 Rust<br /><strong>Veranstalter:
 </strong><br/>Gemeinde Rust<br /><strong>Termin:</strong><br/>Beginn: 09.0
 7.2026\, 18:00 Uhr<br/>Ende: 09.07.2026<br /><strong>Link:</strong><br/><a
  href='https://ok.edith-webco.de/fr/evenements/detail/evenement/id/595050-
 schuelerband-contest/?vt=1'>Page détaillée </a>
END:VEVENT
END:VCALENDAR
