BEGIN:VCALENDAR
VERSION:2.0
PRODID:-//ok.edith-webco.de//NONSGML kigkonsult.se iCalcreator 2.41.92//
CALSCALE:GREGORIAN
METHOD:PUBLISH
UID:37343131-3739-4537-b837-653834616266
X-WR-TIMEZONE:Europe/Berlin
X-LIC-LOCATION:Europe/Berlin
BEGIN:VEVENT
UID:595123-kulturportal@ok.edith-webco.de
DTSTAMP:20260425T005736Z
DESCRIPTION:Kurzbeschreibung:\n Freuen Sie sich auf schwungvolle Blasmusik:
  Polkas\, Walzer und Märsche im unverwechselbaren böhmischen Stil. Burgund
 erstraße 24\, 77770 Durbach\n Ort:\n Burgunderstraße 24\, 77770 Durbach\, 
 Durbach\n Veranstalter:\n Staufenburg Klinik\n Termin:\n Beginn: 08.09.202
 6\, 19:30 Uhr\n Ende: 08.09.2026\n Tickets:\n Eintritt frei\n Eintritt fre
 i\n Link:\n Page détaillée
DTSTART;TZID=Europe/Berlin:20260908T193000
DTEND;TZID=Europe/Berlin:20260908T223000
LOCATION:Burgunderstraße 24\, 77770 Durbach\, Durbach
SUMMARY:Konzert der Orginal Rebländer Blasmusik in der Klinik Durbach \, Bu
 rgunderstraße 24\, 77770 Durbach
X-ALT-DESC;FMTTYPE=text/html:<strong>Kurzbeschreibung:</strong><br/>Freuen 
 Sie sich auf schwungvolle Blasmusik: Polkas\, Walzer und Märsche im unverw
 echselbaren böhmischen Stil. \nBurgunderstraße 24\, 77770 Durbach<br /><st
 rong>Ort:</strong><br/>Burgunderstraße 24\, 77770 Durbach\, Durbach<br /><
 strong>Veranstalter:</strong><br/>Staufenburg Klinik<br /><strong>Termin:<
 /strong><br/>Beginn: 08.09.2026\, 19:30 Uhr<br/>Ende: 08.09.2026<br /><str
 ong>Tickets: </strong><br/>Eintritt frei<br/>Eintritt frei<br /><strong>Li
 nk:</strong><br/><a href='https://ok.edith-webco.de/fr/evenements/detail/e
 venement/id/595123-konzert-der-orginal-reblaender-blasmusik-in-der-klinik-
 durbach/?vt=1'>Page détaillée </a>
END:VEVENT
END:VCALENDAR
