BEGIN:VCALENDAR
VERSION:2.0
PRODID:-//ok.edith-webco.de//NONSGML kigkonsult.se iCalcreator 2.41.92//
CALSCALE:GREGORIAN
METHOD:PUBLISH
UID:32303066-3365-4538-b665-303733393038
X-WR-TIMEZONE:Europe/Berlin
X-LIC-LOCATION:Europe/Berlin
BEGIN:VEVENT
UID:595127-kulturportal@ok.edith-webco.de
DTSTAMP:20260425T112055Z
DESCRIPTION:Kurzbeschreibung:\n Freuen Sie sich auf schwungvolle Blasmusik:
  Polkas\, Walzer und Märsche im unverwechselbaren böhmischen Stil. Renchta
 lalle 1\, 77704 Oberkirch\, Festzelt\n Ort:\n Stadt Oberkirch (Festzelt)\,
  Oberkirch\n Veranstalter:\n Stadt Oberkirch\n Termin:\n Beginn: 05.09.202
 6\, 15:00 Uhr\n Ende: 05.09.2026\n Tickets:\n Eintritt frei\n Eintritt fre
 i\n Link:\n Page détaillée
DTSTART;TZID=Europe/Berlin:20260905T150000
DTEND;TZID=Europe/Berlin:20260905T180000
LOCATION:Stadt Oberkirch (Festzelt)\, Oberkirch
SUMMARY:Konzert der Orginal Rebländer Blasmusik beim 'Oberkircher Fröhliche
 n Weinhock'\, Stadt Oberkirch (Festzelt)
X-ALT-DESC;FMTTYPE=text/html:<strong>Kurzbeschreibung:</strong><br/>Freuen 
 Sie sich auf schwungvolle Blasmusik: Polkas\, Walzer und Märsche im unverw
 echselbaren böhmischen Stil.\nRenchtalalle 1\, 77704 Oberkirch\, Festzelt<
 br /><strong>Ort:</strong><br/>Stadt Oberkirch (Festzelt)\, Oberkirch<br /
 ><strong>Veranstalter:</strong><br/>Stadt Oberkirch<br /><strong>Termin:</
 strong><br/>Beginn: 05.09.2026\, 15:00 Uhr<br/>Ende: 05.09.2026<br /><stro
 ng>Tickets: </strong><br/>Eintritt frei<br/>Eintritt frei<br /><strong>Lin
 k:</strong><br/><a href='https://ok.edith-webco.de/fr/evenements/detail/ev
 enement/id/595127-konzert-der-orginal-reblaender-blasmusik-beim-oberkirche
 r-froehlichen-weinhock/?vt=1'>Page détaillée </a>
END:VEVENT
END:VCALENDAR
