BEGIN:VCALENDAR
VERSION:2.0
PRODID:-//ok.edith-webco.de//NONSGML kigkonsult.se iCalcreator 2.41.92//
CALSCALE:GREGORIAN
METHOD:PUBLISH
UID:31336434-3362-4532-a437-333238356266
X-WR-TIMEZONE:Europe/Berlin
X-LIC-LOCATION:Europe/Berlin
BEGIN:VEVENT
UID:585116-kulturportal@ok.edith-webco.de
DTSTAMP:20260425T142002Z
DESCRIPTION:Kurzbeschreibung:\n Das Weihnachtsprogramm von piano.vocal\, Ca
 rsten Dittrich und Anne Schmidt-Heinrich.\n Ort:\n ´s freche hus\n Apothek
 ergasse 7\, 77704 Oberkirch\n Veranstalter:\n Stadt Oberkirch\n Termin:\n 
 Beginn: 10.12.2026\, 20:00 Uhr\n Ende: 10.12.2026\n Tickets:\n Achat de bi
 llets\n https://ortenaukultur.reservix.de/p/reservix/event/2498867\n Preis
 e:\n jusqu'à 16\,00 € + Réduction\n *Toute taxe comprise\n \n Link:\n Page
  détaillée
DTSTART;TZID=Europe/Berlin:20261210T200000
DTEND;TZID=Europe/Berlin:20261210T230000
LOCATION:´s freche hus\, Apothekergasse 7\, 77704 Oberkirch
SUMMARY:Piano.vocal - A christmas carol\, ´s freche hus
X-ALT-DESC;FMTTYPE=text/html:<strong>Kurzbeschreibung:</strong><br/>Das Wei
 hnachtsprogramm von piano.vocal\, Carsten Dittrich und Anne Schmidt-Heinri
 ch.<br /><strong>Ort:</strong><br/>´s freche hus<br/>Apothekergasse 7\, 77
 704 Oberkirch<br /><strong>Veranstalter:</strong><br/>Stadt Oberkirch<br /
 ><strong>Termin:</strong><br/>Beginn: 10.12.2026\, 20:00 Uhr<br/>Ende: 10.
 12.2026<br /><strong>Tickets: </strong><br/><a rel='asdf' href='https://ok
 .edith-webco.de/fr/evenements/theatre/detail/billets/id/585116-piano-vocal
 -a-christmas-carol/?follow=https%253A%252F%252Fortenaukultur.reservix.de%2
 52Fp%252Freservix%252Fevent%252F2498867' target='_blank' title='' id='tick
 etlink'>Achat de billets</a><br/>https://ortenaukultur.reservix.de/p/reser
 vix/event/2498867<br/><b>Preise: </b><br />jusqu&#039\;à 16\,00 &euro\;&nb
 sp\; + Réduction<br />*Toute taxe comprise<br /><br /><strong>Link:</stron
 g><br/><a href='https://ok.edith-webco.de/fr/evenements/detail/evenement/i
 d/585116-piano-vocal-a-christmas-carol/?vt=1'>Page détaillée </a>
END:VEVENT
END:VCALENDAR
