BEGIN:VCALENDAR
VERSION:2.0
PRODID:-//ok.edith-webco.de//NONSGML kigkonsult.se iCalcreator 2.41.92//
CALSCALE:GREGORIAN
METHOD:PUBLISH
UID:36313031-3466-4038-a631-326536326132
X-WR-TIMEZONE:Europe/Berlin
X-LIC-LOCATION:Europe/Berlin
BEGIN:VEVENT
UID:585274-kulturportal@ok.edith-webco.de
DTSTAMP:20260426T000051Z
DESCRIPTION:Kurzbeschreibung:\n Basierend auf dem Film von Touchstone Pictu
 res\, geschrieben von Tom Schulman. Deutsche Fassung von Joern Hinkel und 
 Tilman Raabke.\n Ort:\n Parktheater\n Kaiserstraße 107\, 77933 Lahr\n Vera
 nstalter:\n LahrKultur\n Termin:\n Beginn: 16.12.2026\, 20:00 Uhr\n Ende: 
 16.12.2026\n Tickets:\n Achat de billets\n https://ortenaukultur.reservix.
 de/p/reservix/event/2542314\n 1. Platz:\n jusqu'à 24\,10 € + Réduction\n 2
 . Platz:\n jusqu'à 20\,80 € + Réduction\n 3. Platz:\n jusqu'à 16\,40 € + R
 éduction\n 4. Platz:\n jusqu'à 10\,90 € + Réduction\n *Toute taxe comprise
 \n \n Link:\n Page détaillée
DTSTART;TZID=Europe/Berlin:20261216T200000
DTEND;TZID=Europe/Berlin:20261216T230000
LOCATION:Parktheater\, Kaiserstraße 107\, 77933 Lahr
SUMMARY:Der Club der toten Dichter\, Parktheater
X-ALT-DESC;FMTTYPE=text/html:<strong>Kurzbeschreibung:</strong><br/>Basiere
 nd auf dem Film von Touchstone Pictures\, geschrieben von Tom Schulman. De
 utsche Fassung von Joern Hinkel und Tilman Raabke.\n<br /><strong>Ort:</st
 rong><br/>Parktheater<br/>Kaiserstraße 107\, 77933 Lahr<br /><strong>Veran
 stalter:</strong><br/>LahrKultur<br /><strong>Termin:</strong><br/>Beginn:
  16.12.2026\, 20:00 Uhr<br/>Ende: 16.12.2026<br /><strong>Tickets: </stron
 g><br/><a rel='asdf' href='https://ok.edith-webco.de/fr/evenements/theatre
 /detail/billets/id/585274-der-club-der-toten-dichter/?follow=https%253A%25
 2F%252Fortenaukultur.reservix.de%252Fp%252Freservix%252Fevent%252F2542314'
  target='_blank' title='' id='ticketlink'>Achat de billets</a><br/>https:/
 /ortenaukultur.reservix.de/p/reservix/event/2542314<br/><b>1. Platz: </b><
 br />jusqu&#039\;à 24\,10 &euro\;&nbsp\; + Réduction<br /><b>2. Platz: </b
 ><br />jusqu&#039\;à 20\,80 &euro\;&nbsp\; + Réduction<br /><b>3. Platz: <
 /b><br />jusqu&#039\;à 16\,40 &euro\;&nbsp\; + Réduction<br /><b>4. Platz:
  </b><br />jusqu&#039\;à 10\,90 &euro\;&nbsp\; + Réduction<br />*Toute tax
 e comprise<br /><br /><strong>Link:</strong><br/><a href='https://ok.edith
 -webco.de/fr/evenements/detail/evenement/id/585274-der-club-der-toten-dich
 ter/?vt=1'>Page détaillée </a>
END:VEVENT
END:VCALENDAR
