BEGIN:VCALENDAR
VERSION:2.0
PRODID:-//ok.edith-webco.de//NONSGML kigkonsult.se iCalcreator 2.41.92//
CALSCALE:GREGORIAN
METHOD:PUBLISH
UID:33306432-3838-4362-b933-336561336363
X-WR-TIMEZONE:Europe/Berlin
X-LIC-LOCATION:Europe/Berlin
BEGIN:VEVENT
UID:585324-kulturportal@ok.edith-webco.de
DTSTAMP:20260425T105440Z
DESCRIPTION:Kurzbeschreibung:\n Diese Komödie von Kerry Renard zeigt\, wie 
 viel man durch Zusammenhalt erreichen kann!\n Ort:\n Parktheater\n Kaisers
 traße 107\, 77933 Lahr\n Veranstalter:\n LahrKultur\n Termin:\n Beginn: 29
 .01.2027\, 20:00 Uhr\n Ende: 29.01.2027\n Tickets:\n Achat de billets\n ht
 tps://ortenaukultur.reservix.de/p/reservix/event/2542333\n 1. Platz:\n jus
 qu'à 31\,80 € + Réduction\n 2. Platz:\n jusqu'à 28\,50 € + Réduction\n 3. 
 Platz:\n jusqu'à 23\,00 € + Réduction\n 4. Platz:\n jusqu'à 15\,30 € + Réd
 uction\n *Toute taxe comprise\n \n Link:\n Page détaillée
DTSTART;TZID=Europe/Berlin:20270129T200000
DTEND;TZID=Europe/Berlin:20270129T230000
LOCATION:Parktheater\, Kaiserstraße 107\, 77933 Lahr
SUMMARY:Ganze Kerle!\, Parktheater
X-ALT-DESC;FMTTYPE=text/html:<strong>Kurzbeschreibung:</strong><br/>Diese K
 omödie von Kerry Renard zeigt\, wie viel man durch Zusammenhalt erreichen 
 kann!<br /><strong>Ort:</strong><br/>Parktheater<br/>Kaiserstraße 107\, 77
 933 Lahr<br /><strong>Veranstalter:</strong><br/>LahrKultur<br /><strong>T
 ermin:</strong><br/>Beginn: 29.01.2027\, 20:00 Uhr<br/>Ende: 29.01.2027<br
  /><strong>Tickets: </strong><br/><a rel='asdf' href='https://ok.edith-web
 co.de/fr/evenements/theatre/detail/billets/id/585324-ganze-kerle/?follow=h
 ttps%253A%252F%252Fortenaukultur.reservix.de%252Fp%252Freservix%252Fevent%
 252F2542333' target='_blank' title='' id='ticketlink'>Achat de billets</a>
 <br/>https://ortenaukultur.reservix.de/p/reservix/event/2542333<br/><b>1. 
 Platz: </b><br />jusqu&#039\;à 31\,80 &euro\;&nbsp\; + Réduction<br /><b>2
 . Platz: </b><br />jusqu&#039\;à 28\,50 &euro\;&nbsp\; + Réduction<br /><b
 >3. Platz: </b><br />jusqu&#039\;à 23\,00 &euro\;&nbsp\; + Réduction<br />
 <b>4. Platz: </b><br />jusqu&#039\;à 15\,30 &euro\;&nbsp\; + Réduction<br 
 />*Toute taxe comprise<br /><br /><strong>Link:</strong><br/><a href='http
 s://ok.edith-webco.de/fr/evenements/detail/evenement/id/585324-ganze-kerle
 /?vt=1'>Page détaillée </a>
END:VEVENT
END:VCALENDAR
