BEGIN:VCALENDAR
VERSION:2.0
PRODID:-//ok.edith-webco.de//NONSGML kigkonsult.se iCalcreator 2.41.92//
CALSCALE:GREGORIAN
METHOD:PUBLISH
UID:39343237-3465-4333-b961-333164343531
X-WR-TIMEZONE:Europe/Berlin
X-LIC-LOCATION:Europe/Berlin
BEGIN:VEVENT
UID:586105-kulturportal@ok.edith-webco.de
DTSTAMP:20260425T040325Z
DESCRIPTION:Kurzbeschreibung:\n Heitere Komödie nach dem gleichnamigen fran
 zösischen Spielfilm von Stéphane Robelin. Originaltitel: Et si on vivait t
 ous ensemble?\n Ort:\n Parktheater\n Kaiserstraße 107\, 77933 Lahr\n Veran
 stalter:\n LahrKultur\n Termin:\n Beginn: 16.03.2027\, 20:00 Uhr\n Ende: 1
 6.03.2027\n Tickets:\n Achat de billets\n https://ortenaukultur.reservix.d
 e/p/reservix/event/2542326\n 1. Platz:\n jusqu'à 24\,10 € + Réduction\n 2.
  Platz:\n jusqu'à 20\,80 € + Réduction\n 3. Platz:\n jusqu'à 16\,40 € + Ré
 duction\n 4. Platz:\n jusqu'à 10\,90 € + Réduction\n *Toute taxe comprise
 \n \n Link:\n Page détaillée
DTSTART;TZID=Europe/Berlin:20270316T200000
DTEND;TZID=Europe/Berlin:20270316T230000
LOCATION:Parktheater\, Kaiserstraße 107\, 77933 Lahr
SUMMARY:Und wenn wir alle zusammenziehen?\, Parktheater
X-ALT-DESC;FMTTYPE=text/html:<strong>Kurzbeschreibung:</strong><br/>Heitere
  Komödie nach dem gleichnamigen französischen Spielfilm von Stéphane Robel
 in.\nOriginaltitel: Et si on vivait tous ensemble?\n<br /><strong>Ort:</st
 rong><br/>Parktheater<br/>Kaiserstraße 107\, 77933 Lahr<br /><strong>Veran
 stalter:</strong><br/>LahrKultur<br /><strong>Termin:</strong><br/>Beginn:
  16.03.2027\, 20:00 Uhr<br/>Ende: 16.03.2027<br /><strong>Tickets: </stron
 g><br/><a rel='asdf' href='https://ok.edith-webco.de/fr/evenements/theatre
 /detail/billets/id/586105-und-wenn-wir-alle-zusammenziehen/?follow=https%2
 53A%252F%252Fortenaukultur.reservix.de%252Fp%252Freservix%252Fevent%252F25
 42326' target='_blank' title='' id='ticketlink'>Achat de billets</a><br/>h
 ttps://ortenaukultur.reservix.de/p/reservix/event/2542326<br/><b>1. Platz:
  </b><br />jusqu&#039\;à 24\,10 &euro\;&nbsp\; + Réduction<br /><b>2. Plat
 z: </b><br />jusqu&#039\;à 20\,80 &euro\;&nbsp\; + Réduction<br /><b>3. Pl
 atz: </b><br />jusqu&#039\;à 16\,40 &euro\;&nbsp\; + Réduction<br /><b>4. 
 Platz: </b><br />jusqu&#039\;à 10\,90 &euro\;&nbsp\; + Réduction<br />*Tou
 te taxe comprise<br /><br /><strong>Link:</strong><br/><a href='https://ok
 .edith-webco.de/fr/evenements/detail/evenement/id/586105-und-wenn-wir-alle
 -zusammenziehen/?vt=1'>Page détaillée </a>
END:VEVENT
END:VCALENDAR
