BEGIN:VCALENDAR
VERSION:2.0
PRODID:-//ok.edith-webco.de//NONSGML kigkonsult.se iCalcreator 2.41.92//
CALSCALE:GREGORIAN
METHOD:PUBLISH
UID:33653963-3762-4330-a263-346133356131
X-WR-TIMEZONE:Europe/Berlin
X-LIC-LOCATION:Europe/Berlin
BEGIN:VEVENT
UID:595297-kulturportal@ok.edith-webco.de
DTSTAMP:20260426T004108Z
DESCRIPTION:Kurzbeschreibung:\n Simone Solga kommt ersmals mit Ihrem Progra
 mm in die Offenburger Reithalle.\n Ort:\n Reithalle im Kulturforum\n Moltk
 estraße 31\, 77654 Offenburg\n Veranstalter:\n Kulturbüro Offenburg\n Term
 in:\n Beginn: 23.04.2027\, 20:00 Uhr\n Ende: 23.04.2027\n Tickets:\n Achat
  de billets\n https://ortenaukultur.reservix.de/p/reservix/event/2516303\n
  1. Kategorie:\n jusqu'à 25\,20 € + Réduction\n *Toute taxe comprise\n \n 
 Link:\n Page détaillée
DTSTART;TZID=Europe/Berlin:20270423T200000
DTEND;TZID=Europe/Berlin:20270423T230000
LOCATION:Reithalle im Kulturforum\, Moltkestraße 31\, 77654 Offenburg
SUMMARY:Simone Solga - „SIE KENNEN MICH“\, Reithalle im Kulturforum
X-ALT-DESC;FMTTYPE=text/html:<strong>Kurzbeschreibung:</strong><br/>Simone 
 Solga kommt ersmals mit Ihrem Programm in die Offenburger Reithalle.<br />
 <strong>Ort:</strong><br/>Reithalle im Kulturforum<br/>Moltkestraße 31\, 7
 7654 Offenburg<br /><strong>Veranstalter:</strong><br/>Kulturbüro Offenbur
 g<br /><strong>Termin:</strong><br/>Beginn: 23.04.2027\, 20:00 Uhr<br/>End
 e: 23.04.2027<br /><strong>Tickets: </strong><br/><a rel='asdf' href='http
 s://ok.edith-webco.de/fr/evenements/theatre/detail/billets/id/595297-simon
 e-solga-sie-kennen-mich/?follow=https%253A%252F%252Fortenaukultur.reservix
 .de%252Fp%252Freservix%252Fevent%252F2516303' target='_blank' title='' id=
 'ticketlink'>Achat de billets</a><br/>https://ortenaukultur.reservix.de/p/
 reservix/event/2516303<br/><b>1. Kategorie: </b><br />jusqu&#039\;à 25\,20
  &euro\;&nbsp\; + Réduction<br />*Toute taxe comprise<br /><br /><strong>L
 ink:</strong><br/><a href='https://ok.edith-webco.de/fr/evenements/detail/
 evenement/id/595297-simone-solga-sie-kennen-mich/?vt=1'>Page détaillée </a
 >
END:VEVENT
END:VCALENDAR
