BEGIN:VCALENDAR
VERSION:2.0
PRODID:-//ok.edith-webco.de//NONSGML kigkonsult.se iCalcreator 2.41.92//
CALSCALE:GREGORIAN
METHOD:PUBLISH
UID:65386633-3632-4338-b035-646337643736
X-WR-TIMEZONE:Europe/Berlin
X-LIC-LOCATION:Europe/Berlin
BEGIN:VEVENT
UID:558673-kulturportal@ok.edith-webco.de
DTSTAMP:20260425T204555Z
DESCRIPTION:Kurzbeschreibung:\n Heimatabend des Trachtenvereins Mühlenbach 
 e. V. vor dem Narrenkeller in Mühlenbach\n Ort:\n Platz vor Narrenkeller \
 , Mühlenbach\n Veranstalter:\n Trachtenverein Mühlenbach e.V.\n Termin:\n 
 Beginn: 12.06.2026\, 17:00 Uhr\n Ende: 12.06.2026\n Link:\n Page détaillée
DTSTART;TZID=Europe/Berlin:20260612T170000
DTEND;TZID=Europe/Berlin:20260612T200000
LOCATION:Platz vor Narrenkeller \, Mühlenbach
SUMMARY:Heimatabend des Trachtenvereins Mühlenbach\, Platz vor Narrenkeller
X-ALT-DESC;FMTTYPE=text/html:<strong>Kurzbeschreibung:</strong><br/>Heimata
 bend des Trachtenvereins Mühlenbach e. V. vor dem Narrenkeller in Mühlenba
 ch <br /><strong>Ort:</strong><br/>Platz vor Narrenkeller \, Mühlenbach<br
  /><strong>Veranstalter:</strong><br/>Trachtenverein Mühlenbach e.V.<br />
 <strong>Termin:</strong><br/>Beginn: 12.06.2026\, 17:00 Uhr<br/>Ende: 12.0
 6.2026<br /><strong>Link:</strong><br/><a href='https://ok.edith-webco.de/
 fr/evenements/detail/evenement/id/558673-heimatabend-des-trachtenvereins-m
 uehlenbach/?vt=1'>Page détaillée </a>
END:VEVENT
END:VCALENDAR
