BEGIN:VCALENDAR
VERSION:2.0
PRODID:-//ok.edith-webco.de//NONSGML kigkonsult.se iCalcreator 2.41.92//
CALSCALE:GREGORIAN
METHOD:PUBLISH
UID:62353133-6263-4632-a530-653233383138
X-WR-TIMEZONE:Europe/Berlin
X-LIC-LOCATION:Europe/Berlin
BEGIN:VEVENT
UID:566222-kulturportal@ok.edith-webco.de
DTSTAMP:20260425T105600Z
DESCRIPTION:Kurzbeschreibung:\n Genieße das Panorama\, triff Freunde und pr
 obier leckere Weine\, Rebstock.Schorle oder Gold’n Rush.\n Ort:\n Weingut 
 Bieselin\n Im Pfaffenbach 61\, 77955 Ettenheim\n Veranstalter:\n Weingut B
 ieselin\n Termin:\n Beginn: 16.07.2026\, 17:00 Uhr\n Ende: 16.07.2026\n Li
 nk:\n Page détaillée
DTSTART;TZID=Europe/Berlin:20260716T170000
DTEND;TZID=Europe/Berlin:20260716T200000
LOCATION:Weingut Bieselin\, Im Pfaffenbach 61\, 77955 Ettenheim
SUMMARY:WEIN.GARTEN\, Weingut Bieselin
X-ALT-DESC;FMTTYPE=text/html:<strong>Kurzbeschreibung:</strong><br/>Genieße
  das Panorama\, triff Freunde und probier leckere Weine\, Rebstock.Schorle
  oder Gold’n Rush. \n\n<br /><strong>Ort:</strong><br/>Weingut Bieselin<br
 />Im Pfaffenbach 61\, 77955 Ettenheim<br /><strong>Veranstalter:</strong><
 br/>Weingut Bieselin<br /><strong>Termin:</strong><br/>Beginn: 16.07.2026\
 , 17:00 Uhr<br/>Ende: 16.07.2026<br /><strong>Link:</strong><br/><a href='
 https://ok.edith-webco.de/fr/evenements/detail/evenement/id/566222-wein-ga
 rten/?vt=1'>Page détaillée </a>
END:VEVENT
END:VCALENDAR
