BEGIN:VCALENDAR
VERSION:2.0
PRODID:-//ok.edith-webco.de//NONSGML kigkonsult.se iCalcreator 2.41.92//
CALSCALE:GREGORIAN
METHOD:PUBLISH
UID:33343635-3632-4833-b733-623161656362
X-WR-TIMEZONE:Europe/Berlin
X-LIC-LOCATION:Europe/Berlin
BEGIN:VEVENT
UID:575989-kulturportal@ok.edith-webco.de
DTSTAMP:20260425T111309Z
DESCRIPTION:Kurzbeschreibung:\n Der Harmonika-Verein Lierbach veranstaltet 
 das alljährliche Sommerfest beim Bürgerhaus in Lierbach.\n Ort:\n Bürgerha
 us Lierbach\n Hirzigstraße 1\, 77728 Oppenau-Lierbach\n Veranstalter:\n Ha
 rmonika-Verein Lierbach\n Termin:\n Beginn: 05.07.2026\n Ende: 05.07.2026
 \n Link:\n Page détaillée
DTSTART;TZID=Europe/Berlin:20260705T000000
DTEND;TZID=Europe/Berlin:20260705T030000
LOCATION:Bürgerhaus Lierbach\, Hirzigstraße 1\, 77728 Oppenau-Lierbach
SUMMARY:Sommerfest in Lierbach\, Bürgerhaus Lierbach
X-ALT-DESC;FMTTYPE=text/html:<strong>Kurzbeschreibung:</strong><br/>Der Har
 monika-Verein Lierbach veranstaltet das alljährliche Sommerfest beim Bürge
 rhaus in Lierbach.<br /><strong>Ort:</strong><br/>Bürgerhaus Lierbach<br/>
 Hirzigstraße 1\, 77728 Oppenau-Lierbach<br /><strong>Veranstalter:</strong
 ><br/>Harmonika-Verein Lierbach<br /><strong>Termin:</strong><br/>Beginn: 
 05.07.2026<br/>Ende: 05.07.2026<br /><strong>Link:</strong><br/><a href='h
 ttps://ok.edith-webco.de/fr/evenements/detail/evenement/id/575989-sommerfe
 st-in-lierbach/?vt=1'>Page détaillée </a>
END:VEVENT
END:VCALENDAR
