BEGIN:VCALENDAR
VERSION:2.0
PRODID:-//ok.edith-webco.de//NONSGML kigkonsult.se iCalcreator 2.41.92//
CALSCALE:GREGORIAN
METHOD:PUBLISH
UID:64663830-6632-4935-b636-363930326361
X-WR-TIMEZONE:Europe/Berlin
X-LIC-LOCATION:Europe/Berlin
BEGIN:VEVENT
UID:579895-kulturportal@ok.edith-webco.de
DTSTAMP:20260425T142242Z
DESCRIPTION:Kurzbeschreibung:\n Genießen Sie ausgezeichnete Weine und lasse
 n Sie sich kulinarisch verwöhnen! Dazu gibt es handgemachte Musik der Band
  Orange Gugu aus Freiburg.\n Ort:\n Gasthaus zum Lamm\n Friedrichstr. 12\,
  77955 Ettenheim\n Veranstalter:\n Stadt Ettenheim (LS)\n Termin:\n Beginn
 : 13.06.2026\, 18:30 Uhr\n Ende: 13.06.2026\n Tickets:\n 18\,- € (inkl. Be
 grüßungsgetränk und 5\,- € Glaspfand)\n Link:\n Page détaillée
DTSTART;TZID=Europe/Berlin:20260613T183000
DTEND;TZID=Europe/Berlin:20260613T213000
LOCATION:Gasthaus zum Lamm\, Friedrichstr. 12\, 77955 Ettenheim
SUMMARY:Ettenheimer Weinparty mit Live-Band\, Gasthaus zum Lamm
X-ALT-DESC;FMTTYPE=text/html:<strong>Kurzbeschreibung:</strong><br/>Genieße
 n Sie ausgezeichnete Weine und lassen Sie sich kulinarisch verwöhnen!\nDaz
 u gibt es handgemachte Musik der Band Orange Gugu aus Freiburg.<br /><stro
 ng>Ort:</strong><br/>Gasthaus zum Lamm<br/>Friedrichstr. 12\, 77955 Ettenh
 eim<br /><strong>Veranstalter:</strong><br/>Stadt Ettenheim (LS)<br /><str
 ong>Termin:</strong><br/>Beginn: 13.06.2026\, 18:30 Uhr<br/>Ende: 13.06.20
 26<br /><strong>Tickets: </strong><br/>18\,- € (inkl. Begrüßungsgetränk un
 d 5\,- € Glaspfand)<br /><strong>Link:</strong><br/><a href='https://ok.ed
 ith-webco.de/fr/evenements/detail/evenement/id/579895-ettenheimer-weinpart
 y-mit-live-band/?vt=1'>Page détaillée </a>
END:VEVENT
END:VCALENDAR
