BEGIN:VCALENDAR
VERSION:2.0
PRODID:-//ok.edith-webco.de//NONSGML kigkonsult.se iCalcreator 2.41.92//
CALSCALE:GREGORIAN
METHOD:PUBLISH
UID:37323037-3462-4461-b434-663166303962
X-WR-TIMEZONE:Europe/Berlin
X-LIC-LOCATION:Europe/Berlin
BEGIN:VEVENT
UID:583215-kulturportal@ok.edith-webco.de
DTSTAMP:20260425T124445Z
DESCRIPTION:Kurzbeschreibung:\n mit Live Bands und Bewirtung am Haus der Mu
 sik in der Hofstetterstraße 3\n Ort:\n Vorplatz Stadthalle\, inkl. Niederh
 ofenparkplatz\n Hofstetterstr. 3\, 77716 Haslach\n Veranstalter:\n Stadtka
 pelle Haslach\n Termin:\n Beginn: 20.06.2026\, 18:00 Uhr\n Ende: 20.06.202
 6\n Tickets:\n Eintritt frei\n Link:\n Page détaillée
DTSTART;TZID=Europe/Berlin:20260620T180000
DTEND;TZID=Europe/Berlin:20260620T210000
LOCATION:Vorplatz Stadthalle\, inkl. Niederhofenparkplatz\, Hofstetterstr. 
 3\, 77716 Haslach
SUMMARY:Sommerfest der Stadtkapelle\, Haus der Musik
X-ALT-DESC;FMTTYPE=text/html:<strong>Kurzbeschreibung:</strong><br/>mit Liv
 e Bands und Bewirtung am Haus der Musik in der Hofstetterstraße 3<br /><st
 rong>Ort:</strong><br/>Vorplatz Stadthalle\, inkl. Niederhofenparkplatz<br
 />Hofstetterstr. 3\, 77716 Haslach<br /><strong>Veranstalter:</strong><br/
 >Stadtkapelle Haslach<br /><strong>Termin:</strong><br/>Beginn: 20.06.2026
 \, 18:00 Uhr<br/>Ende: 20.06.2026<br /><strong>Tickets: </strong><br/>Eint
 ritt frei<br /><strong>Link:</strong><br/><a href='https://ok.edith-webco.
 de/fr/evenements/detail/evenement/id/583215-sommerfest-der-stadtkapelle/?v
 t=1'>Page détaillée </a>
END:VEVENT
END:VCALENDAR
