BEGIN:VCALENDAR
VERSION:2.0
PRODID:-//ok.edith-webco.de//NONSGML kigkonsult.se iCalcreator 2.41.92//
CALSCALE:GREGORIAN
METHOD:PUBLISH
UID:31336336-3634-4430-a261-353434373632
X-WR-TIMEZONE:Europe/Berlin
X-LIC-LOCATION:Europe/Berlin
BEGIN:VEVENT
UID:584406-kulturportal@ok.edith-webco.de
DTSTAMP:20260426T010529Z
DESCRIPTION:Kurzbeschreibung:\n Märchenstunde mit Katrin Bamberg im Rahmen 
 der Ausstellung 'Drecksarbei - Der Mikrokosmos unter unseren Füßen'. Ab 4 
 Jahren\n Ort:\n Das Kulturhaus.\n Am Läger 12\, 77694 Kehl\n Veranstalter:
 \n Kulturbüro Kehl\n Termin:\n Beginn: 12.05.2026\, 10:30 Uhr\n Ende: 12.0
 5.2026\n Tickets:\n Achat de billets\n https://ortenaukultur.reservix.de/p
 /reservix/event/2519818\n Einheitspreis:\n 4\,30 €\n *Toute taxe comprise
 \n \n Link:\n Page détaillée
DTSTART;TZID=Europe/Berlin:20260512T103000
DTEND;TZID=Europe/Berlin:20260512T133000
LOCATION:Das Kulturhaus.\, Am Läger 12\, 77694 Kehl
SUMMARY:Willkommen in der Welt unter unseren Füßen (2)\, Das Kulturhaus.
X-ALT-DESC;FMTTYPE=text/html:<strong>Kurzbeschreibung:</strong><br/>Märchen
 stunde mit Katrin Bamberg im Rahmen der Ausstellung 'Drecksarbei - Der Mik
 rokosmos unter unseren Füßen'. Ab 4 Jahren<br /><strong>Ort:</strong><br/>
 Das Kulturhaus.<br/>Am Läger 12\, 77694 Kehl<br /><strong>Veranstalter:</s
 trong><br/>Kulturbüro Kehl<br /><strong>Termin:</strong><br/>Beginn: 12.05
 .2026\, 10:30 Uhr<br/>Ende: 12.05.2026<br /><strong>Tickets: </strong><br/
 ><a rel='asdf' href='https://ok.edith-webco.de/fr/evenements/typique-de-l-
 ortenau/detail/billets/id/584406-willkommen-in-der-welt-unter-unseren-fues
 sen-2/?follow=https%253A%252F%252Fortenaukultur.reservix.de%252Fp%252Frese
 rvix%252Fevent%252F2519818' target='_blank' title='' id='ticketlink'>Achat
  de billets</a><br/>https://ortenaukultur.reservix.de/p/reservix/event/251
 9818<br/><b>Einheitspreis: </b><br />4\,30 &euro\;<br />*Toute taxe compri
 se<br /><br /><strong>Link:</strong><br/><a href='https://ok.edith-webco.d
 e/fr/evenements/detail/evenement/id/584406-willkommen-in-der-welt-unter-un
 seren-fuessen-2/?vt=1'>Page détaillée </a>
END:VEVENT
END:VCALENDAR
