BEGIN:VCALENDAR
VERSION:2.0
PRODID:-//ok.edith-webco.de//NONSGML kigkonsult.se iCalcreator 2.41.92//
CALSCALE:GREGORIAN
METHOD:PUBLISH
UID:62636233-3361-4237-b635-343431646239
X-WR-TIMEZONE:Europe/Berlin
X-LIC-LOCATION:Europe/Berlin
BEGIN:VEVENT
UID:589189-kulturportal@ok.edith-webco.de
DTSTAMP:20260425T224102Z
DESCRIPTION:Kurzbeschreibung:\n Festwochenende zum Jubiläum 800 Jahre Wallb
 urg mit abwechslungsreichem Programm\n Ort:\n Wallburg\, Ettenheim\n Veran
 stalter:\n Ortsverwaltung Wallburg\n Termin:\n Beginn: 27.09.2026\n Ende: 
 27.09.2026\n Link:\n Page détaillée
DTSTART;TZID=Europe/Berlin:20260927T000000
DTEND;TZID=Europe/Berlin:20260927T030000
LOCATION:Wallburg\, Ettenheim
SUMMARY:Festwochenende 800 Jahre Wallburg\, Wallburg
X-ALT-DESC;FMTTYPE=text/html:<strong>Kurzbeschreibung:</strong><br/>Festwoc
 henende zum Jubiläum 800 Jahre Wallburg mit abwechslungsreichem Programm<b
 r /><strong>Ort:</strong><br/>Wallburg\, Ettenheim<br /><strong>Veranstalt
 er:</strong><br/>Ortsverwaltung Wallburg<br /><strong>Termin:</strong><br/
 >Beginn: 27.09.2026<br/>Ende: 27.09.2026<br /><strong>Link:</strong><br/><
 a href='https://ok.edith-webco.de/fr/evenements/detail/evenement/id/589189
 -festwochenende-800-jahre-wallburg/?vt=1'>Page détaillée </a>
END:VEVENT
END:VCALENDAR
