BEGIN:VCALENDAR
VERSION:2.0
PRODID:-//ok.edith-webco.de//NONSGML kigkonsult.se iCalcreator 2.41.92//
CALSCALE:GREGORIAN
METHOD:PUBLISH
UID:65323462-6163-4332-b038-646533626366
X-WR-TIMEZONE:Europe/Berlin
X-LIC-LOCATION:Europe/Berlin
BEGIN:VEVENT
UID:590297-kulturportal@ok.edith-webco.de
DTSTAMP:20260425T221035Z
DESCRIPTION:Kurzbeschreibung:\n Feiert 300 Jahre Abfindungsbrennerei mit un
 s! Mit kreativen Cocktails und feinem Fingerfood aus regionalen Produkten.
  Anmeldung unter 07838 663.\n Ort:\n Heidenbühlhof\n Heidenbühl 2\, 77787 
 Nordrach\n Veranstalter:\n Heidenbühlhof\n Termin:\n Beginn: 11.07.2026\, 
 18:00 Uhr\n Ende: 11.07.2026\n Link:\n Page détaillée
DTSTART;TZID=Europe/Berlin:20260711T180000
DTEND;TZID=Europe/Berlin:20260711T210000
LOCATION:Heidenbühlhof\, Heidenbühl 2\, 77787 Nordrach
SUMMARY:Handwerk trifft Cocktailkultur auf dem Heidenbühlhof\, Heidenbühlho
 f
X-ALT-DESC;FMTTYPE=text/html:<strong>Kurzbeschreibung:</strong><br/>Feiert 
 300 Jahre Abfindungsbrennerei mit uns! Mit kreativen Cocktails und feinem 
 Fingerfood aus regionalen Produkten. Anmeldung unter 07838 663. <br /><str
 ong>Ort:</strong><br/>Heidenbühlhof<br/>Heidenbühl 2\, 77787 Nordrach<br /
 ><strong>Veranstalter:</strong><br/>Heidenbühlhof<br /><strong>Termin:</st
 rong><br/>Beginn: 11.07.2026\, 18:00 Uhr<br/>Ende: 11.07.2026<br /><strong
 >Link:</strong><br/><a href='https://ok.edith-webco.de/fr/evenements/detai
 l/evenement/id/590297-handwerk-trifft-cocktailkultur-auf-dem-heidenbuehlho
 f/?vt=1'>Page détaillée </a>
END:VEVENT
END:VCALENDAR
