BEGIN:VCALENDAR
VERSION:2.0
PRODID:-//ok.edith-webco.de//NONSGML kigkonsult.se iCalcreator 2.41.92//
CALSCALE:GREGORIAN
METHOD:PUBLISH
UID:32336632-6339-4530-b934-303863333731
X-WR-TIMEZONE:Europe/Berlin
X-LIC-LOCATION:Europe/Berlin
BEGIN:VEVENT
UID:590698-kulturportal@ok.edith-webco.de
DTSTAMP:20260425T210638Z
DESCRIPTION:Kurzbeschreibung:\n Eine Kurzführung zum Pilgern und Wallfahren
  in der Ortenau und den Mitbringseln\n Ort:\n Museum im Ritterhaus\n Ritte
 rstr. 10\, 77652 Offenburg\n Veranstalter:\n Museum im Ritterhaus Offenbur
 g\n Termin:\n Beginn: 08.07.2026\, 12:30 Uhr\n Ende: 08.07.2026\n Link:\n 
 Page détaillée
DTSTART;TZID=Europe/Berlin:20260708T123000
DTEND;TZID=Europe/Berlin:20260708T153000
LOCATION:Museum im Ritterhaus\, Ritterstr. 10\, 77652 Offenburg
SUMMARY:Kulturpause - Ich bin dann mal weg...Pilgern früher und heute\, Mus
 eum im Ritterhaus
X-ALT-DESC;FMTTYPE=text/html:<strong>Kurzbeschreibung:</strong><br/>Eine Ku
 rzführung zum Pilgern und Wallfahren in der Ortenau und den Mitbringseln<b
 r /><strong>Ort:</strong><br/>Museum im Ritterhaus<br/>Ritterstr. 10\, 776
 52 Offenburg<br /><strong>Veranstalter:</strong><br/>Museum im Ritterhaus 
 Offenburg<br /><strong>Termin:</strong><br/>Beginn: 08.07.2026\, 12:30 Uhr
 <br/>Ende: 08.07.2026<br /><strong>Link:</strong><br/><a href='https://ok.
 edith-webco.de/fr/evenements/detail/evenement/id/590698-kulturpause-ich-bi
 n-dann-mal-weg-pilgern-frueher-und-heute/?vt=1'>Page détaillée </a>
END:VEVENT
END:VCALENDAR
