BEGIN:VCALENDAR
VERSION:2.0
PRODID:-//ok.edith-webco.de//NONSGML kigkonsult.se iCalcreator 2.41.92//
CALSCALE:GREGORIAN
METHOD:PUBLISH
UID:63333130-3238-4634-a561-386636393833
X-WR-TIMEZONE:Europe/Berlin
X-LIC-LOCATION:Europe/Berlin
BEGIN:VEVENT
UID:591727-kulturportal@ok.edith-webco.de
DTSTAMP:20260425T154056Z
DESCRIPTION:Kurzbeschreibung:\n Am Sonntag\, 14.06.2026 findet das alljährl
 iche und sehr beliebte Feuerwehrfest der Abteilung Schenkenzell statt.\n O
 rt:\n Feuerwehrgerätehaus Abteilung Schenkenzell\n Spannstattstraße 32-34\
 , 77773 Schenkenzell\n Veranstalter:\n Feuerwehr Abteilung Schenkenzell\n 
 Termin:\n Beginn: 14.06.2026\, 10:30 Uhr\n Ende: 14.06.2026\n Link:\n Page
  détaillée
DTSTART;TZID=Europe/Berlin:20260614T103000
DTEND;TZID=Europe/Berlin:20260614T133000
LOCATION:Feuerwehrgerätehaus Abteilung Schenkenzell\, Spannstattstraße 32-3
 4\, 77773 Schenkenzell
SUMMARY:Feuerwehrfest Schenkenzell\, Feuerwehrgerätehaus Abteilung Schenken
 zell
X-ALT-DESC;FMTTYPE=text/html:<strong>Kurzbeschreibung:</strong><br/>Am Sonn
 tag\, 14.06.2026 findet das alljährliche und sehr beliebte Feuerwehrfest d
 er Abteilung Schenkenzell statt. <br /><strong>Ort:</strong><br/>Feuerwehr
 gerätehaus Abteilung Schenkenzell<br/>Spannstattstraße 32-34\, 77773 Schen
 kenzell<br /><strong>Veranstalter:</strong><br/>Feuerwehr Abteilung Schenk
 enzell<br /><strong>Termin:</strong><br/>Beginn: 14.06.2026\, 10:30 Uhr<br
 />Ende: 14.06.2026<br /><strong>Link:</strong><br/><a href='https://ok.edi
 th-webco.de/fr/evenements/detail/evenement/id/591727-feuerwehrfest-schenke
 nzell/?vt=1'>Page détaillée </a>
END:VEVENT
END:VCALENDAR
