BEGIN:VCALENDAR
VERSION:2.0
PRODID:-//ok.edith-webco.de//NONSGML kigkonsult.se iCalcreator 2.41.92//
CALSCALE:GREGORIAN
METHOD:PUBLISH
UID:62336363-3033-4137-a630-663837383761
X-WR-TIMEZONE:Europe/Berlin
X-LIC-LOCATION:Europe/Berlin
BEGIN:VEVENT
UID:595113-kulturportal@ok.edith-webco.de
DTSTAMP:20260425T142027Z
DESCRIPTION:Kurzbeschreibung:\n Pascale Hugues\, die Bestsellerautorin von 
 Marthe und Mathilde\, folgt in ihrem neuen Buch den Spuren ihrer Mutter\, 
 die viel zu früh starb.\n Blitzinfo:\n NEU I Zusatzveranstaltung\n Ort:\n 
 Kulturforum Illenau\n Illenauer Allee 77\, 77855 Achern\n Veranstalter:\n 
 Stadt Achern - FG 3.3 Kultur\n Termin:\n Beginn: 13.05.2026\, 19:30 Uhr\n 
 Ende: 13.05.2026\n Tickets:\n Achat de billets\n https://ortenaukultur.res
 ervix.de/p/reservix/event/2554928\n 1. Kategorie:\n jusqu'à 15\,00 € + Réd
 uction\n *Toute taxe comprise\n \n Link:\n Page détaillée
DTSTART;TZID=Europe/Berlin:20260513T193000
DTEND;TZID=Europe/Berlin:20260513T223000
LOCATION:Kulturforum Illenau \, Illenauer Allee 77\, 77855 Achern
SUMMARY:Lesung und Gespräch mit Pascale Hugues\, Kulturforum Illenau
X-ALT-DESC;FMTTYPE=text/html:<strong>Kurzbeschreibung:</strong><br/>Pascale
  Hugues\, die Bestsellerautorin von Marthe und  Mathilde\, folgt in ihrem 
 neuen Buch den Spuren ihrer Mutter\, die viel zu früh starb. <br /><strong
 >Blitzinfo:</strong><br/>NEU I Zusatzveranstaltung<br /><strong>Ort:</stro
 ng><br/>Kulturforum Illenau  <br/>Illenauer Allee 77\, 77855 Achern<br /><
 strong>Veranstalter:</strong><br/>Stadt Achern - FG 3.3 Kultur<br /><stron
 g>Termin:</strong><br/>Beginn: 13.05.2026\, 19:30 Uhr<br/>Ende: 13.05.2026
 <br /><strong>Tickets: </strong><br/><a rel='asdf' href='https://ok.edith-
 webco.de/fr/evenements/typique-de-l-ortenau/detail/billets/id/595113-lesun
 g-und-gespraech-mit-pascale-hugues/?follow=https%253A%252F%252Fortenaukult
 ur.reservix.de%252Fp%252Freservix%252Fevent%252F2554928' target='_blank' t
 itle='' id='ticketlink'>Achat de billets</a><br/>https://ortenaukultur.res
 ervix.de/p/reservix/event/2554928<br/><b>1. Kategorie: </b><br />jusqu&#03
 9\;à 15\,00 &euro\;&nbsp\; + Réduction<br />*Toute taxe comprise<br /><br 
 /><strong>Link:</strong><br/><a href='https://ok.edith-webco.de/fr/eveneme
 nts/detail/evenement/id/595113-lesung-und-gespraech-mit-pascale-hugues/?vt
 =1'>Page détaillée </a>
END:VEVENT
END:VCALENDAR
